BEGIN:VCALENDAR
VERSION:2.0
PRODID:-//ChamberMaster//Event Calendar 2.0//EN
METHOD:PUBLISH
X-PUBLISHED-TTL:P1H
REFRESH-INTERVAL:P1H
CALSCALE:GREGORIAN
BEGIN:VTIMEZONE
TZID:America/New_York
BEGIN:DAYLIGHT
RRULE:FREQ=YEARLY;BYMONTH=3;BYDAY=2SU
DTSTART:20070101T000000
TZOFFSETFROM:-0500
TZOFFSETTO:-0400
TZNAME:Eastern Daylight Time
END:DAYLIGHT
BEGIN:STANDARD
RRULE:FREQ=YEARLY;BYMONTH=11;BYDAY=1SU
DTSTART:20070101T000000
TZOFFSETFROM:-0400
TZOFFSETTO:-0500
TZNAME:Eastern Standard Time
END:STANDARD
END:VTIMEZONE
BEGIN:VEVENT
DTSTART;TZID=America/New_York:20261016T193000
DTEND;TZID=America/New_York:20261016T213000
X-MICROSOFT-CDO-ALLDAYEVENT:FALSE
SUMMARY:ThunderBeard: A Tribute to ZZ Top
DESCRIPTION:ThunderBeard delivers a high-octane tribute packed with big riffs\, driving grooves\, and the kind of rock-and-roll swagger that made ZZ Top one of America's most enduring bands. The band brings the full ZZ Top package to the stage with the grit\, swagger\, blues-rock drive\, and unmistakable attitude that made the Texas trio legendary. With authentic look\, sharp musicianship\, and all the signature style fans expect\, this tribute captures the spirit of ZZ Top with confidence and power. Covering more than five decades of iconic music\, ThunderBeard tears through classics like "La Grange\," "Tush\," and "Sharp Dressed Man\," along with standout cuts that dig into the band's deep Texas blues roots and hard-hitting rock sound. Every detail\, from the fuzzy guitars to the locked-in rhythm and stage presence\, is built to echo the energy and edge of a classic ZZ Top performance. Please note that this performance is presented at concert-level volume. Performing Arts Center Friday\, October 16\, 2026\, 7:30 PM 10150 Bonita Beach Road\, Bonita Springs Tickets: $55 Tier 1 | $50 Tier 2 | $45 Tier 3 $4 service fee per ticket is added at checkout Buy Tickets Here: http://artsbonita.vbotickets.com/event/thunderbeard_a_tribute_to_zz_top_|_101626/190203
X-ALT-DESC;FMTTYPE=text/html:<!DOCTYPE html><html><head><title></title></head><body aria-disabled="false"><p>ThunderBeard delivers a high-octane tribute packed with big riffs\, driving grooves\, and the kind of rock-and-roll swagger that made ZZ Top one of America&rsquo\;s most enduring bands. The band brings the full ZZ Top package to the stage with the grit\, swagger\, blues-rock drive\, and unmistakable attitude that made the Texas trio legendary. With authentic look\, sharp musicianship\, and all the signature style fans expect\, this tribute captures the spirit of ZZ Top with confidence and power. Covering more than five decades of iconic music\, ThunderBeard tears through classics like &ldquo\;La Grange\,&rdquo\; &ldquo\;Tush\,&rdquo\; and &ldquo\;Sharp Dressed Man\,&rdquo\; along with standout cuts that dig into the band&rsquo\;s deep Texas blues roots and hard-hitting rock sound. Every detail\, from the fuzzy guitars to the locked-in rhythm and stage presence\, is built to echo the energy and edge of a classic ZZ Top performance. Please note that this performance is presented at concert-level volume. Performing Arts Center Friday\, October 16\, 2026\, 7:30 PM 10150 Bonita Beach Road\, Bonita Springs Tickets: $55 Tier 1 | $50 Tier 2 | $45 Tier 3 $4 service fee per ticket is added at checkout&nbsp\;</p><p>Buy Tickets Here:<a fr-original-style="" href="http://artsbonita.vbotickets.com/event/thunderbeard_a_tribute_to_zz_top_|_101626/190203" rel="noopener noreferrer" style="user-select: auto\;" target="_blank"> http://artsbonita.vbotickets.com/event/thunderbeard_a_tribute_to_zz_top_|_101626/190203</a></p></body></html>
LOCATION:10150 Bonita Beach Road Bonita Springs FL 34135
UID:e.3518.1450505
SEQUENCE:3
DTSTAMP:20260425T233725Z
URL:https://greaternapleschamberofcommerce.growthzoneapp.com/accelerated-networking-lunch-calendar/Details/thunderbeard-a-tribute-to-zz-top-1718159?sourceTypeId=Hub
END:VEVENT
END:VCALENDAR
