BEGIN:VCALENDAR
VERSION:2.0
PRODID:-//ChamberMaster//Event Calendar 2.0//EN
METHOD:PUBLISH
X-PUBLISHED-TTL:P1H
REFRESH-INTERVAL:P1H
CALSCALE:GREGORIAN
BEGIN:VTIMEZONE
TZID:America/New_York
BEGIN:DAYLIGHT
RRULE:FREQ=YEARLY;BYMONTH=3;BYDAY=2SU
DTSTART:20070101T000000
TZOFFSETFROM:-0500
TZOFFSETTO:-0400
TZNAME:Eastern Daylight Time
END:DAYLIGHT
BEGIN:STANDARD
RRULE:FREQ=YEARLY;BYMONTH=11;BYDAY=1SU
DTSTART:20070101T000000
TZOFFSETFROM:-0400
TZOFFSETTO:-0500
TZNAME:Eastern Standard Time
END:STANDARD
END:VTIMEZONE
BEGIN:VEVENT
DTSTART;TZID=America/New_York:20260808T193000
DTEND;TZID=America/New_York:20260808T213000
X-MICROSOFT-CDO-ALLDAYEVENT:FALSE
SUMMARY:Kelly Hunt
DESCRIPTION:A distinctive voice in contemporary roots music\, Kelly Hunt blends old-time banjo traditions with sharp\, modern songwriting and a clear\, expressive vocal style. Her debut album Even the Sparrow a finalist for the International Folk Music Awards Album of the Year drew national attention for its vivid storytelling\, melodic strength\, and the warm\, soulful character of her vintage tenor banjo\, helping establish her as an artist with both depth and originality. Rooted in tradition but never confined by it\, Hunt's music moves fluidly between past and present\, balancing Appalachian and folk influences with a distinctly modern perspective. Rolling Stone Country noted her "lilting cadence of a folksinger born somewhere far away\, sometime long ago\," while PopMatters praised her ability to "embrace modernity with unadulterated effervescence\," naming Even the Sparrow among its 20 Best Folk Albums of 2019. Expanding her sound further\, her work with producer Dirk Powell on Ozark Symphony has been recognized for capturing a wide-ranging American musical landscape\, with Grateful Web writing that the album "truly captures the spirit of America." On stage\, Hunt delivers an intimate\, compelling performance shaped by precise musicianship\, rich tone\, and a nuanced command of both voice and instrument. As Greil Marcus wrote in Rolling Stone\, "From the first instant you know you're in a place where there is no sense of time\, where anything can happen and no one will ever have to admit to a thing." Saturday\, August 8\, 2026\; 7:30pm Performing Arts Center 10150 Bonita Beach Road\, Bonita Springs Tickets: $48 Tier 1 / $43 Tier 2 / $38 Tier 3 An additional $4 service fee per ticket is added at checkout Buy Tickets Here: http://artsbonita.vbotickets.com/event/kelly_hunt_|_soulful_americana__folk_|_8826/192470
X-ALT-DESC;FMTTYPE=text/html:<!DOCTYPE html><html><head><title></title></head><body aria-disabled="false"><p>A distinctive voice in contemporary roots music\, Kelly Hunt blends old-time banjo traditions with sharp\, modern songwriting and a clear\, expressive vocal style. Her debut album Even the Sparrow&mdash\;a finalist for the International Folk Music Awards Album of the Year&mdash\;drew national attention for its vivid storytelling\, melodic strength\, and the warm\, soulful character of her vintage tenor banjo\, helping establish her as an artist with both depth and originality. Rooted in tradition but never confined by it\, Hunt&rsquo\;s music moves fluidly between past and present\, balancing Appalachian and folk influences with a distinctly modern perspective. Rolling Stone Country noted her &ldquo\;lilting cadence of a folksinger born somewhere far away\, sometime long ago\,&rdquo\; while PopMatters praised her ability to &ldquo\;embrace modernity with unadulterated effervescence\,&rdquo\; naming Even the Sparrow among its 20 Best Folk Albums of 2019. Expanding her sound further\, her work with producer Dirk Powell on Ozark Symphony has been recognized for capturing a wide-ranging American musical landscape\, with Grateful Web writing that the album &ldquo\;truly captures the spirit of America.&rdquo\; On stage\, Hunt delivers an intimate\, compelling performance shaped by precise musicianship\, rich tone\, and a nuanced command of both voice and instrument. As Greil Marcus wrote in Rolling Stone\, &ldquo\;From the first instant you know you&rsquo\;re in a place where there is no sense of time\, where anything can happen and no one will ever have to admit to a thing.&rdquo\; Saturday\, August 8\, 2026\; 7:30pm Performing Arts Center 10150 Bonita Beach Road\, Bonita Springs Tickets: $48 Tier 1 / $43 Tier 2 / $38 Tier 3 An additional $4 service fee per ticket is added at checkout&nbsp\;</p><p>Buy Tickets Here: <a fr-original-style="" href="http://artsbonita.vbotickets.com/event/kelly_hunt_|_soulful_americana__folk_|_8826/192470" rel="noopener noreferrer" style="user-select: auto\;" target="_blank">http://artsbonita.vbotickets.com/event/kelly_hunt_|_soulful_americana__folk_|_8826/192470</a></p></body></html>
LOCATION:10150 Bonita Beach Rd Bonita Springs FL 34135
UID:e.3518.1450444
SEQUENCE:3
DTSTAMP:20260425T233652Z
URL:https://greaternapleschamberofcommerce.growthzoneapp.com/accelerated-networking-lunch-calendar/Details/kelly-hunt-1718098?sourceTypeId=Hub
END:VEVENT
END:VCALENDAR
