BEGIN:VCALENDAR
VERSION:2.0
PRODID:-//ChamberMaster//Event Calendar 2.0//EN
METHOD:PUBLISH
X-PUBLISHED-TTL:P1H
REFRESH-INTERVAL:P1H
CALSCALE:GREGORIAN
BEGIN:VTIMEZONE
TZID:America/New_York
BEGIN:DAYLIGHT
RRULE:FREQ=YEARLY;BYMONTH=3;BYDAY=2SU
DTSTART:20070101T000000
TZOFFSETFROM:-0500
TZOFFSETTO:-0400
TZNAME:Eastern Daylight Time
END:DAYLIGHT
BEGIN:STANDARD
RRULE:FREQ=YEARLY;BYMONTH=11;BYDAY=1SU
DTSTART:20070101T000000
TZOFFSETFROM:-0400
TZOFFSETTO:-0500
TZNAME:Eastern Standard Time
END:STANDARD
END:VTIMEZONE
BEGIN:VEVENT
DTSTART;TZID=America/New_York:20260605T193000
DTEND;TZID=America/New_York:20260605T213000
X-MICROSOFT-CDO-ALLDAYEVENT:FALSE
SUMMARY:Josh Rouse
DESCRIPTION:Josh Rouse has spent nearly 25 years building one of the most quietly distinguished catalogs in contemporary singer-songwriter music. Since his acclaimed 1998 debut Dressed Up Like Nebraska and breakthrough albums including 1972 and Nashville\, he has shaped a body of work defined by melodic craftsmanship\, introspective writing\, and a warm\, understated sound that moves easily through folk-pop\, soft rock\, and classic songwriting traditions. In performance\, that songwriting takes center stage. Fan favorites such as Come Back\, Love Vibration\, 1972\, and Winter in the Hamptons carry the same melodic ease and emotional clarity that have made Rouse such an enduring artist\, while newer material adds fresh color to a catalog that continues to evolve. The result is an intimate\, richly musical evening led by an artist whose work has earned lasting critical respect\, including a Goya Award (Spain's most prestigious film awards) for Best Original Song. Friday\, June 5\, 7:30 PM Performing Arts Center 10150 Bonita Beach Road\, Bonita Springs Tickets: $45 Tier 1 | $40 Tier 2 | $35 Tier 3 $4 service fee per ticket is added at checkout Buy Tickets Here: http://artsbonita.vbotickets.com/event/josh_rouse_solo_|_singersongwriter_|_6526/192436
X-ALT-DESC;FMTTYPE=text/html:<!DOCTYPE html><html><head><title></title></head><body aria-disabled="false"><p>Josh Rouse has spent nearly 25 years building one of the most quietly distinguished catalogs in contemporary singer-songwriter music. Since his acclaimed 1998 debut Dressed Up Like Nebraska and breakthrough albums including 1972 and Nashville\, he has shaped a body of work defined by melodic craftsmanship\, introspective writing\, and a warm\, understated sound that moves easily through folk-pop\, soft rock\, and classic songwriting traditions. In performance\, that songwriting takes center stage. Fan favorites such as Come Back\, Love Vibration\, 1972\, and Winter in the Hamptons carry the same melodic ease and emotional clarity that have made Rouse such an enduring artist\, while newer material adds fresh color to a catalog that continues to evolve. The result is an intimate\, richly musical evening led by an artist whose work has earned lasting critical respect\, including a Goya Award (Spain&rsquo\;s most prestigious film awards) for Best Original Song. Friday\, June 5\, 7:30 PM Performing Arts Center 10150 Bonita Beach Road\, Bonita Springs Tickets: $45 Tier 1 | $40 Tier 2 | $35 Tier 3 $4 service fee per ticket is added at checkout&nbsp\;</p><p>Buy Tickets Here: <a fr-original-style="" href="http://artsbonita.vbotickets.com/event/josh_rouse_solo_|_singersongwriter_|_6526/192436" style="user-select: auto\;">http://artsbonita.vbotickets.com/event/josh_rouse_solo_|_singersongwriter_|_6526/192436</a></p></body></html>
LOCATION:10150 Bonita Beach Rd Bonita Springs FL 34135
UID:e.3518.1450436
SEQUENCE:3
DTSTAMP:20260425T233653Z
URL:https://greaternapleschamberofcommerce.growthzoneapp.com/accelerated-networking-lunch-calendar/Details/josh-rouse-1718090?sourceTypeId=Hub
END:VEVENT
END:VCALENDAR
