BEGIN:VCALENDAR
VERSION:2.0
PRODID:-//ChamberMaster//Event Calendar 2.0//EN
METHOD:PUBLISH
X-PUBLISHED-TTL:P1H
REFRESH-INTERVAL:P1H
CALSCALE:GREGORIAN
BEGIN:VTIMEZONE
TZID:America/New_York
BEGIN:DAYLIGHT
RRULE:FREQ=YEARLY;BYMONTH=3;BYDAY=2SU
DTSTART:20070101T000000
TZOFFSETFROM:-0500
TZOFFSETTO:-0400
TZNAME:Eastern Daylight Time
END:DAYLIGHT
BEGIN:STANDARD
RRULE:FREQ=YEARLY;BYMONTH=11;BYDAY=1SU
DTSTART:20070101T000000
TZOFFSETFROM:-0400
TZOFFSETTO:-0500
TZNAME:Eastern Standard Time
END:STANDARD
END:VTIMEZONE
BEGIN:VEVENT
DTSTART;TZID=America/New_York:20260517T190000
DTEND;TZID=America/New_York:20260517T210000
X-MICROSOFT-CDO-ALLDAYEVENT:FALSE
SUMMARY:It's Not Mansplaining\, It's Old Mansplaining with Tom Briscoe
DESCRIPTION:Tom Briscoe's Dry Bar Comedy special has drawn millions of views\, and his comedy albums are heard regularly on SiriusXM. Tom makes his Arts Bonita debut with It's Not Mansplaining\, It's Old Mansplaining\, a clean stand-up comedy show that takes on marriage\, family life\, aging\, and the absurd logic of the generational divide. Drawing from real life with his wife and two grown daughters\, Briscoe riffs on bad jobs\, empty nesting\, travel mishaps\, unsolicited advice\, and the ongoing humiliation of getting older without much dignity. A veteran touring comedian\, Briscoe has performed in comedy clubs and theaters across the United States and around the world. It's Not Mansplaining\, It's Old Mansplaining brings that polished\, relatable style to the stage with smart observational humor and a steady stream of stories about family\, aging\, and the changing world around him. Briscoe delivers exactly what audiences expect from his work: smart\, relatable comedy with no politics and no cringe. Sunday\, May 17\; 7:00pm Performing Arts Center 10150 Bonita Beach Road\, Bonita Springs Tickets: $40 Tier 1 | $35 Tier 2 | $30 Tier 3 $4 service fee per ticket is added at checkout Buy Tickets Here: http://artsbonita.vbotickets.com/event/tom_briscoe_-_its_not_mansplaining..._|_comedy_|_51726/189931
X-ALT-DESC;FMTTYPE=text/html:<!DOCTYPE html><html><head><title></title></head><body aria-disabled="false"><p>Tom Briscoe&rsquo\;s Dry Bar Comedy special has drawn millions of views\, and his comedy albums are heard regularly on SiriusXM. Tom makes his Arts Bonita debut with It&rsquo\;s Not Mansplaining\, It&rsquo\;s Old Mansplaining\, a clean stand-up comedy show that takes on marriage\, family life\, aging\, and the absurd logic of the generational divide. Drawing from real life with his wife and two grown daughters\, Briscoe riffs on bad jobs\, empty nesting\, travel mishaps\, unsolicited advice\, and the ongoing humiliation of getting older without much dignity. A veteran touring comedian\, Briscoe has performed in comedy clubs and theaters across the United States and around the world. It&rsquo\;s Not Mansplaining\, It&rsquo\;s Old Mansplaining brings that polished\, relatable style to the stage with smart observational humor and a steady stream of stories about family\, aging\, and the changing world around him. Briscoe delivers exactly what audiences expect from his work: smart\, relatable comedy with no politics and no cringe. Sunday\, May 17\; 7:00pm Performing Arts Center 10150 Bonita Beach Road\, Bonita Springs Tickets: $40 Tier 1 | $35 Tier 2 | $30 Tier 3 $4 service fee per ticket is added at checkout&nbsp\;</p><p>Buy Tickets Here: <a fr-original-style="" href="http://artsbonita.vbotickets.com/event/tom_briscoe_-_its_not_mansplaining..._|_comedy_|_51726/189931" rel="noopener noreferrer" style="user-select: auto\;" target="_blank">http://artsbonita.vbotickets.com/event/tom_briscoe_-_its_not_mansplaining..._|_comedy_|_51726/189931</a></p></body></html>
LOCATION:10150 Bonita Beach Rd Bonita Springs FL 34135
UID:e.3518.1450426
SEQUENCE:3
DTSTAMP:20260425T233732Z
URL:https://greaternapleschamberofcommerce.growthzoneapp.com/accelerated-networking-lunch-calendar/Details/it-s-not-mansplaining-it-s-old-mansplaining-with-tom-briscoe-1718080?sourceTypeId=Hub
END:VEVENT
END:VCALENDAR
