BEGIN:VCALENDAR
VERSION:2.0
PRODID:-//ChamberMaster//Event Calendar 2.0//EN
METHOD:PUBLISH
X-PUBLISHED-TTL:P1H
REFRESH-INTERVAL:P1H
CALSCALE:GREGORIAN
BEGIN:VTIMEZONE
TZID:America/New_York
BEGIN:DAYLIGHT
RRULE:FREQ=YEARLY;BYMONTH=3;BYDAY=2SU
DTSTART:20070101T000000
TZOFFSETFROM:-0500
TZOFFSETTO:-0400
TZNAME:Eastern Daylight Time
END:DAYLIGHT
BEGIN:STANDARD
RRULE:FREQ=YEARLY;BYMONTH=11;BYDAY=1SU
DTSTART:20070101T000000
TZOFFSETFROM:-0400
TZOFFSETTO:-0500
TZNAME:Eastern Standard Time
END:STANDARD
END:VTIMEZONE
BEGIN:VEVENT
DTSTART;TZID=America/New_York:20260606T090000
DTEND;TZID=America/New_York:20260829T153000
X-MICROSOFT-CDO-ALLDAYEVENT:FALSE
SUMMARY:Crafty Critter Saturdays
DESCRIPTION:FREE with Admission to Environmental Learning Center\n\nExplore your wild side through nature-themed crafts!\n\nJoin us on Saturdays this summer for fun\, self-guided\, family-friendly crafting activities inspired by nature. Each month features a new theme and all supplies are included with admission … just bring your creativity!
X-ALT-DESC;FMTTYPE=text/html:FREE with Admission to Environmental Learning Center\n\nExplore your wild side through nature-themed crafts!\n\nJoin us on Saturdays this summer for fun\, self-guided\, family-friendly crafting activities inspired by nature. Each month features a new theme and all supplies are included with admission … just bring your creativity!
LOCATION:300 Tower Road Naples FL 34113
UID:e.3518.1450146
SEQUENCE:3
DTSTAMP:20260425T233651Z
URL:https://greaternapleschamberofcommerce.growthzoneapp.com/accelerated-networking-lunch-calendar/Details/crafty-critter-saturdays-1717726?sourceTypeId=Hub
END:VEVENT
END:VCALENDAR
